BEGIN:VCALENDAR
VERSION:2.0
PRODID:-//The Office of the Vice Provost for Climate - ECPv6.15.20//NONSGML v1.0//EN
CALSCALE:GREGORIAN
METHOD:PUBLISH
X-WR-CALNAME:The Office of the Vice Provost for Climate
X-ORIGINAL-URL:https://climate.upenn.edu
X-WR-CALDESC:Events for The Office of the Vice Provost for Climate
REFRESH-INTERVAL;VALUE=DURATION:PT1H
X-Robots-Tag:noindex
X-PUBLISHED-TTL:PT1H
BEGIN:VTIMEZONE
TZID:America/New_York
BEGIN:DAYLIGHT
TZOFFSETFROM:-0500
TZOFFSETTO:-0400
TZNAME:EDT
DTSTART:20250309T070000
END:DAYLIGHT
BEGIN:STANDARD
TZOFFSETFROM:-0400
TZOFFSETTO:-0500
TZNAME:EST
DTSTART:20251102T060000
END:STANDARD
BEGIN:DAYLIGHT
TZOFFSETFROM:-0500
TZOFFSETTO:-0400
TZNAME:EDT
DTSTART:20260308T070000
END:DAYLIGHT
BEGIN:STANDARD
TZOFFSETFROM:-0400
TZOFFSETTO:-0500
TZNAME:EST
DTSTART:20261101T060000
END:STANDARD
BEGIN:DAYLIGHT
TZOFFSETFROM:-0500
TZOFFSETTO:-0400
TZNAME:EDT
DTSTART:20270314T070000
END:DAYLIGHT
BEGIN:STANDARD
TZOFFSETFROM:-0400
TZOFFSETTO:-0500
TZNAME:EST
DTSTART:20271107T060000
END:STANDARD
END:VTIMEZONE
BEGIN:VEVENT
DTSTART;TZID=America/New_York:20260507T150000
DTEND;TZID=America/New_York:20260507T170000
DTSTAMP:20260420T214611
CREATED:20260306T181111Z
LAST-MODIFIED:20260416T152254Z
UID:10000077-1778166000-1778173200@climate.upenn.edu
SUMMARY:Faculty Writing Group
DESCRIPTION:Calling all Penn faculty! To foster collaboration\, community\, and productivity among researchers working on climate change\, Penn Climate is holding a regular faculty writing group meet-up. Faculty are invited to meet colleagues working in this space as well as the Penn Climate team and have dedicated space and time to work collaborative or on your own—like a mini\, on-campus writing retreat. Snacks will be provided!
URL:https://climate.upenn.edu/event/faculty-writing-group-4/
LOCATION:College Hall Room 118
CATEGORIES:Workshop
END:VEVENT
BEGIN:VEVENT
DTSTART;TZID=America/New_York:20260519T000000
DTEND;TZID=America/New_York:20260522T000000
DTSTAMP:20260420T214612
CREATED:20260304T120542Z
LAST-MODIFIED:20260406T112854Z
UID:10000056-1779148800-1779408000@climate.upenn.edu
SUMMARY:Introduction to Integrated Assessment Models
DESCRIPTION:Calling all Penn faculty! To foster collaboration\, community\, and productivity among researchers working on climate change\, Penn Climate is holding a regular faculty writing group meet-up. Faculty are invited to meet colleagues working in this space as well as the Penn Climate team and have dedicated space and time to work collaborative or on your own—like a mini\, on-campus writing retreat. Snacks will be provided!
URL:https://climate.upenn.edu/event/introduction-to-integrated-assessment-models/
LOCATION:Kleinman Energy Forum\, Fisher Fine Arts Building\, 4th Floor\, Philadelphia\, 19104
CATEGORIES:Workshop
END:VEVENT
END:VCALENDAR